Package: OGRE Version: 1.11.0 Command: /home/biocbuild/bbs-3.21-bioc/R/bin/R CMD INSTALL OGRE StartedAt: 2025-02-09 15:47:28 -0500 (Sun, 09 Feb 2025) EndedAt: 2025-02-09 15:48:18 -0500 (Sun, 09 Feb 2025) EllapsedTime: 50.3 seconds RetCode: 0 Status: OK