Package: OGRE Version: 1.11.0 Command: chmod a+r OGRE -R && E:\biocbuild\bbs-3.21-bioc\R\bin\R.exe CMD build --keep-empty-dirs --no-resave-data OGRE StartedAt: 2025-02-09 20:23:58 -0500 (Sun, 09 Feb 2025) EndedAt: 2025-02-09 20:26:13 -0500 (Sun, 09 Feb 2025) EllapsedTime: 135.6 seconds RetCode: 0 Status: OK PackageFile: OGRE_1.11.0.tar.gz PackageFileSize: 1.533 MiB