Package: OGRE Version: 1.11.0 Command: E:\biocbuild\bbs-3.21-bioc\R\bin\R.exe CMD check --no-multiarch --install=check:OGRE.install-out.txt --library=E:\biocbuild\bbs-3.21-bioc\R\library --no-vignettes --timings OGRE_1.11.0.tar.gz StartedAt: 2025-02-10 03:41:58 -0500 (Mon, 10 Feb 2025) EndedAt: 2025-02-10 03:50:56 -0500 (Mon, 10 Feb 2025) EllapsedTime: 538.0 seconds RetCode: 0 Status: OK CheckDir: OGRE.Rcheck Warnings: 0