Package: OGRE Version: 1.11.0 Command: E:\biocbuild\bbs-3.21-bioc\R\bin\R.exe CMD INSTALL OGRE StartedAt: 2025-02-09 16:44:17 -0500 (Sun, 09 Feb 2025) EndedAt: 2025-02-09 16:45:17 -0500 (Sun, 09 Feb 2025) EllapsedTime: 60.5 seconds RetCode: 0 Status: OK