Package: OLIN Version: 1.85.0 Command: /Library/Frameworks/R.framework/Resources/bin/R CMD build --keep-empty-dirs --no-resave-data OLIN StartedAt: 2025-02-09 17:09:00 -0500 (Sun, 09 Feb 2025) EndedAt: 2025-02-09 17:09:14 -0500 (Sun, 09 Feb 2025) EllapsedTime: 14.2 seconds RetCode: 0 Status: OK PackageFile: OLIN_1.85.0.tar.gz PackageFileSize: 2.558 MiB