Package: OLIN Version: 1.85.0 Command: /home/biocbuild/R/R/bin/R CMD build --keep-empty-dirs --no-resave-data OLIN StartedAt: 2025-01-29 00:56:26 -0000 (Wed, 29 Jan 2025) EndedAt: 2025-01-29 00:57:14 -0000 (Wed, 29 Jan 2025) EllapsedTime: 48.1 seconds RetCode: 0 Status: OK PackageFile: OLIN_1.85.0.tar.gz PackageFileSize: 2.564 MiB