Package: OLIN Version: 1.85.0 Command: /home/biocbuild/bbs-3.21-bioc/R/bin/R CMD check --install=check:OLIN.install-out.txt --library=/home/biocbuild/bbs-3.21-bioc/R/site-library --timings OLIN_1.85.0.tar.gz StartedAt: 2025-02-04 01:00:48 -0500 (Tue, 04 Feb 2025) EndedAt: 2025-02-04 01:02:00 -0500 (Tue, 04 Feb 2025) EllapsedTime: 72.2 seconds RetCode: 0 Status: OK CheckDir: OLIN.Rcheck Warnings: 0