Package: OLIN Version: 1.85.0 Command: chmod a+r OLIN -R && E:\biocbuild\bbs-3.21-bioc\R\bin\R.exe CMD build --keep-empty-dirs --no-resave-data OLIN StartedAt: 2025-02-03 20:37:18 -0500 (Mon, 03 Feb 2025) EndedAt: 2025-02-03 20:38:04 -0500 (Mon, 03 Feb 2025) EllapsedTime: 46.3 seconds RetCode: 0 Status: OK PackageFile: OLIN_1.85.0.tar.gz PackageFileSize: 2.426 MiB