Package: OLIN Version: 1.85.0 Command: E:\biocbuild\bbs-3.21-bioc\R\bin\R.exe CMD check --no-multiarch --install=check:OLIN.install-out.txt --library=E:\biocbuild\bbs-3.21-bioc\R\library --no-vignettes --timings OLIN_1.85.0.tar.gz StartedAt: 2025-02-10 03:42:15 -0500 (Mon, 10 Feb 2025) EndedAt: 2025-02-10 03:43:25 -0500 (Mon, 10 Feb 2025) EllapsedTime: 70.1 seconds RetCode: 0 Status: OK CheckDir: OLIN.Rcheck Warnings: 0