Package: OLIN Version: 1.85.0 Command: E:\biocbuild\bbs-3.21-bioc\R\bin\R.exe CMD INSTALL OLIN StartedAt: 2025-02-03 15:39:20 -0500 (Mon, 03 Feb 2025) EndedAt: 2025-02-03 15:39:41 -0500 (Mon, 03 Feb 2025) EllapsedTime: 21.1 seconds RetCode: 0 Status: OK