Package: OLINgui Version: 1.81.0 Command: rm -rf OLINgui.buildbin-libdir && mkdir OLINgui.buildbin-libdir && /Users/biocbuild/BBS/utils/build-universal.sh OLINgui_1.81.0.tar.gz /Library/Frameworks/R.framework/Resources/bin/R OLINgui.buildbin-libdir StartedAt: 2025-02-09 22:24:02 -0500 (Sun, 09 Feb 2025) EndedAt: 2025-02-09 22:24:06 -0500 (Sun, 09 Feb 2025) EllapsedTime: 4.1 seconds RetCode: 0 Status: OK PackageFile: OLINgui_1.81.0.tgz PackageFileSize: 364.5 KiB