Package: OLINgui Version: 1.81.0 Command: /Library/Frameworks/R.framework/Resources/bin/R CMD INSTALL OLINgui StartedAt: 2025-02-04 15:03:37 -0500 (Tue, 04 Feb 2025) EndedAt: 2025-02-04 15:03:40 -0500 (Tue, 04 Feb 2025) EllapsedTime: 3.7 seconds RetCode: 0 Status: OK