Package: OLINgui Version: 1.81.0 Command: /home/biocbuild/R/R/bin/R CMD build --keep-empty-dirs --no-resave-data OLINgui StartedAt: 2025-01-29 00:56:26 -0000 (Wed, 29 Jan 2025) EndedAt: 2025-01-29 00:56:39 -0000 (Wed, 29 Jan 2025) EllapsedTime: 13.0 seconds RetCode: 0 Status: OK PackageFile: OLINgui_1.81.0.tar.gz PackageFileSize: 385.1 KiB