Package: OLINgui Version: 1.81.0 Command: /home/biocbuild/R/R/bin/R CMD check --install=check:OLINgui.install-out.txt --library=/home/biocbuild/R/R/site-library --no-vignettes --timings OLINgui_1.81.0.tar.gz StartedAt: 2025-01-28 13:25:58 -0000 (Tue, 28 Jan 2025) EndedAt: 2025-01-28 13:26:47 -0000 (Tue, 28 Jan 2025) EllapsedTime: 49.1 seconds RetCode: 0 Status: OK CheckDir: OLINgui.Rcheck Warnings: 0