Package: OLINgui Version: 1.81.0 Command: /home/biocbuild/R/R/bin/R CMD INSTALL OLINgui StartedAt: 2025-01-29 19:35:53 -0000 (Wed, 29 Jan 2025) EndedAt: 2025-01-29 19:36:20 -0000 (Wed, 29 Jan 2025) EllapsedTime: 27.1 seconds RetCode: 0 Status: OK