Package: OLINgui Version: 1.81.0 Command: /Library/Frameworks/R.framework/Resources/bin/R CMD INSTALL OLINgui StartedAt: 2025-02-09 15:08:06 -0500 (Sun, 09 Feb 2025) EndedAt: 2025-02-09 15:08:32 -0500 (Sun, 09 Feb 2025) EllapsedTime: 26.7 seconds RetCode: 0 Status: OK