Package: OLINgui Version: 1.81.0 Command: /home/biocbuild/bbs-3.21-bioc/R/bin/R CMD build --keep-empty-dirs --no-resave-data OLINgui StartedAt: 2025-02-09 18:28:04 -0500 (Sun, 09 Feb 2025) EndedAt: 2025-02-09 18:28:13 -0500 (Sun, 09 Feb 2025) EllapsedTime: 9.0 seconds RetCode: 0 Status: OK PackageFile: OLINgui_1.81.0.tar.gz PackageFileSize: 374.2 KiB