Package: ORFhunteR Version: 1.15.0 Command: /Library/Frameworks/R.framework/Resources/bin/R CMD check --install=check:ORFhunteR.install-out.txt --library=/Library/Frameworks/R.framework/Resources/library --no-vignettes --timings ORFhunteR_1.15.0.tar.gz StartedAt: 2025-02-04 20:33:13 -0500 (Tue, 04 Feb 2025) EndedAt: 2025-02-04 20:35:06 -0500 (Tue, 04 Feb 2025) EllapsedTime: 113.3 seconds RetCode: 0 Status: WARNINGS CheckDir: ORFhunteR.Rcheck Warnings: 1