Package: ORFhunteR Version: 1.15.0 Command: /home/biocbuild/R/R/bin/R CMD build --keep-empty-dirs --no-resave-data ORFhunteR StartedAt: 2025-01-29 01:03:36 -0000 (Wed, 29 Jan 2025) EndedAt: 2025-01-29 01:07:34 -0000 (Wed, 29 Jan 2025) EllapsedTime: 237.5 seconds RetCode: 0 Status: OK PackageFile: ORFhunteR_1.15.0.tar.gz PackageFileSize: 2.131 MiB