Package: ORFhunteR Version: 1.15.0 Command: /home/biocbuild/R/R/bin/R CMD INSTALL ORFhunteR StartedAt: 2025-01-29 19:54:57 -0000 (Wed, 29 Jan 2025) EndedAt: 2025-01-29 19:55:59 -0000 (Wed, 29 Jan 2025) EllapsedTime: 62.2 seconds RetCode: 0 Status: OK