Package: ORFhunteR Version: 1.15.0 Command: /Library/Frameworks/R.framework/Resources/bin/R CMD INSTALL ORFhunteR StartedAt: 2025-02-04 15:19:13 -0500 (Tue, 04 Feb 2025) EndedAt: 2025-02-04 15:20:09 -0500 (Tue, 04 Feb 2025) EllapsedTime: 55.5 seconds RetCode: 0 Status: OK