Package: ORFhunteR Version: 1.15.0 Command: /home/biocbuild/bbs-3.21-bioc/R/bin/R CMD check --install=check:ORFhunteR.install-out.txt --library=/home/biocbuild/bbs-3.21-bioc/R/site-library --timings ORFhunteR_1.15.0.tar.gz StartedAt: 2025-02-10 00:59:16 -0500 (Mon, 10 Feb 2025) EndedAt: 2025-02-10 01:09:26 -0500 (Mon, 10 Feb 2025) EllapsedTime: 610.1 seconds RetCode: 0 Status: WARNINGS CheckDir: ORFhunteR.Rcheck Warnings: 1