Package: ORFhunteR Version: 1.15.0 Command: rm -rf ORFhunteR.buildbin-libdir && mkdir ORFhunteR.buildbin-libdir && E:\biocbuild\bbs-3.21-bioc\R\bin\R.exe CMD INSTALL --build --library=ORFhunteR.buildbin-libdir ORFhunteR_1.15.0.tar.gz StartedAt: 2025-02-05 08:31:46 -0500 (Wed, 05 Feb 2025) EndedAt: 2025-02-05 08:32:44 -0500 (Wed, 05 Feb 2025) EllapsedTime: 57.5 seconds RetCode: 0 Status: OK PackageFile: ORFhunteR_1.15.0.zip PackageFileSize: 1.752 MiB