Package: ORFhunteR Version: 1.15.0 Command: E:\biocbuild\bbs-3.21-bioc\R\bin\R.exe CMD check --no-multiarch --install=check:ORFhunteR.install-out.txt --library=E:\biocbuild\bbs-3.21-bioc\R\library --no-vignettes --timings ORFhunteR_1.15.0.tar.gz StartedAt: 2025-02-10 03:48:42 -0500 (Mon, 10 Feb 2025) EndedAt: 2025-02-10 03:55:03 -0500 (Mon, 10 Feb 2025) EllapsedTime: 380.7 seconds RetCode: 0 Status: WARNINGS CheckDir: ORFhunteR.Rcheck Warnings: 1