Package: ORFhunteR Version: 1.15.0 Command: E:\biocbuild\bbs-3.21-bioc\R\bin\R.exe CMD INSTALL ORFhunteR StartedAt: 2025-02-09 16:36:06 -0500 (Sun, 09 Feb 2025) EndedAt: 2025-02-09 16:38:01 -0500 (Sun, 09 Feb 2025) EllapsedTime: 114.5 seconds RetCode: 0 Status: OK