Package: ORFik Version: 1.27.1 Command: rm -rf ORFik.buildbin-libdir && mkdir ORFik.buildbin-libdir && /Users/biocbuild/BBS/utils/build-universal.sh ORFik_1.27.1.tar.gz /Library/Frameworks/R.framework/Resources/bin/R ORFik.buildbin-libdir StartedAt: 2025-02-04 22:26:16 -0500 (Tue, 04 Feb 2025) EndedAt: 2025-02-04 22:26:45 -0500 (Tue, 04 Feb 2025) EllapsedTime: 28.7 seconds RetCode: 0 Status: OK PackageFile: ORFik_1.27.1.tgz PackageFileSize: 5.587 MiB