Package: ORFik Version: 1.27.1 Command: /Library/Frameworks/R.framework/Resources/bin/R CMD INSTALL ORFik StartedAt: 2025-02-04 15:14:24 -0500 (Tue, 04 Feb 2025) EndedAt: 2025-02-04 15:14:50 -0500 (Tue, 04 Feb 2025) EllapsedTime: 25.7 seconds RetCode: 0 Status: OK