Package: ORFik Version: 1.27.1 Command: /Library/Frameworks/R.framework/Resources/bin/R CMD build --keep-empty-dirs --no-resave-data ORFik StartedAt: 2025-02-12 17:43:09 -0500 (Wed, 12 Feb 2025) EndedAt: 2025-02-12 17:50:11 -0500 (Wed, 12 Feb 2025) EllapsedTime: 422.2 seconds RetCode: 0 Status: OK PackageFile: ORFik_1.27.1.tar.gz PackageFileSize: 3.911 MiB