Package: ORFik Version: 1.27.1 Command: /home/biocbuild/bbs-3.21-bioc/R/bin/R CMD build --keep-empty-dirs --no-resave-data ORFik StartedAt: 2025-02-09 18:30:55 -0500 (Sun, 09 Feb 2025) EndedAt: 2025-02-09 18:37:08 -0500 (Sun, 09 Feb 2025) EllapsedTime: 372.6 seconds RetCode: 0 Status: OK PackageFile: ORFik_1.27.1.tar.gz PackageFileSize: 3.926 MiB