Package: ORFik Version: 1.27.1 Command: chmod a+r ORFik -R && E:\biocbuild\bbs-3.21-bioc\R\bin\R.exe CMD build --keep-empty-dirs --no-resave-data ORFik StartedAt: 2025-02-04 20:31:06 -0500 (Tue, 04 Feb 2025) EndedAt: 2025-02-04 20:40:17 -0500 (Tue, 04 Feb 2025) EllapsedTime: 551.4 seconds RetCode: 0 Status: OK PackageFile: ORFik_1.27.1.tar.gz PackageFileSize: 3.191 MiB