Package: ORFik Version: 1.27.1 Command: E:\biocbuild\bbs-3.21-bioc\R\bin\R.exe CMD check --no-multiarch --install=check:ORFik.install-out.txt --library=E:\biocbuild\bbs-3.21-bioc\R\library --no-vignettes --timings ORFik_1.27.1.tar.gz StartedAt: 2025-02-10 03:48:59 -0500 (Mon, 10 Feb 2025) EndedAt: 2025-02-10 04:06:39 -0500 (Mon, 10 Feb 2025) EllapsedTime: 1059.3 seconds RetCode: 0 Status: WARNINGS CheckDir: ORFik.Rcheck Warnings: 1