Package: ORFik Version: 1.27.1 Command: E:\biocbuild\bbs-3.21-bioc\R\bin\R.exe CMD INSTALL ORFik StartedAt: 2025-02-09 16:38:02 -0500 (Sun, 09 Feb 2025) EndedAt: 2025-02-09 16:41:51 -0500 (Sun, 09 Feb 2025) EllapsedTime: 229.3 seconds RetCode: 0 Status: OK