Package: OSAT Version: 1.55.0 Command: rm -rf OSAT.buildbin-libdir && mkdir OSAT.buildbin-libdir && /Users/biocbuild/BBS/utils/build-universal.sh OSAT_1.55.0.tar.gz /Library/Frameworks/R.framework/Resources/bin/R OSAT.buildbin-libdir StartedAt: 2025-02-13 00:49:55 -0500 (Thu, 13 Feb 2025) EndedAt: 2025-02-13 00:50:02 -0500 (Thu, 13 Feb 2025) EllapsedTime: 7.1 seconds RetCode: 0 Status: OK PackageFile: OSAT_1.55.0.tgz PackageFileSize: 647.1 KiB