Package: OSAT Version: 1.55.0 Command: /Library/Frameworks/R.framework/Resources/bin/R CMD INSTALL OSAT StartedAt: 2025-02-12 15:03:35 -0500 (Wed, 12 Feb 2025) EndedAt: 2025-02-12 15:03:54 -0500 (Wed, 12 Feb 2025) EllapsedTime: 19.5 seconds RetCode: 0 Status: OK