Package: OSAT Version: 1.55.0 Command: /home/biocbuild/bbs-3.21-bioc/R/bin/R CMD INSTALL OSAT StartedAt: 2025-02-12 15:03:22 -0500 (Wed, 12 Feb 2025) EndedAt: 2025-02-12 15:03:25 -0500 (Wed, 12 Feb 2025) EllapsedTime: 3.7 seconds RetCode: 0 Status: OK