Package: OSAT Version: 1.55.0 Command: rm -rf OSAT.buildbin-libdir && mkdir OSAT.buildbin-libdir && E:\biocbuild\bbs-3.21-bioc\R\bin\R.exe CMD INSTALL --build --library=OSAT.buildbin-libdir OSAT_1.55.0.tar.gz StartedAt: 2025-02-10 08:20:20 -0500 (Mon, 10 Feb 2025) EndedAt: 2025-02-10 08:20:43 -0500 (Mon, 10 Feb 2025) EllapsedTime: 22.8 seconds RetCode: 0 Status: OK PackageFile: OSAT_1.55.0.zip PackageFileSize: 650.2 KiB