Package: OUTRIDER Version: 1.25.0 Command: E:\biocbuild\bbs-3.21-bioc\R\bin\R.exe CMD check --no-multiarch --install=check:OUTRIDER.install-out.txt --library=E:\biocbuild\bbs-3.21-bioc\R\library --no-vignettes --timings OUTRIDER_1.25.0.tar.gz StartedAt: 2025-02-10 03:50:59 -0500 (Mon, 10 Feb 2025) EndedAt: 2025-02-10 04:05:06 -0500 (Mon, 10 Feb 2025) EllapsedTime: 846.6 seconds RetCode: 0 Status: OK CheckDir: OUTRIDER.Rcheck Warnings: 0