Package: OUTRIDER Version: 1.25.0 Command: E:\biocbuild\bbs-3.21-bioc\R\bin\R.exe CMD INSTALL OUTRIDER StartedAt: 2025-02-12 16:47:06 -0500 (Wed, 12 Feb 2025) EndedAt: 2025-02-12 16:48:58 -0500 (Wed, 12 Feb 2025) EllapsedTime: 112.2 seconds RetCode: 0 Status: OK