Package: OVESEG Version: 1.23.0 Command: /home/biocbuild/R/R/bin/R CMD build --keep-empty-dirs --no-resave-data OVESEG StartedAt: 2025-01-29 01:06:23 -0000 (Wed, 29 Jan 2025) EndedAt: 2025-01-29 01:15:42 -0000 (Wed, 29 Jan 2025) EllapsedTime: 559.7 seconds RetCode: 0 Status: OK PackageFile: OVESEG_1.23.0.tar.gz PackageFileSize: 791.5 KiB