Package: OVESEG Version: 1.23.0 Command: /home/biocbuild/R/R/bin/R CMD INSTALL OVESEG StartedAt: 2025-01-29 19:44:56 -0000 (Wed, 29 Jan 2025) EndedAt: 2025-01-29 19:45:21 -0000 (Wed, 29 Jan 2025) EllapsedTime: 24.7 seconds RetCode: 0 Status: OK