Package: OVESEG Version: 1.23.0 Command: /Library/Frameworks/R.framework/Resources/bin/R CMD build --keep-empty-dirs --no-resave-data OVESEG StartedAt: 2025-02-10 17:43:59 -0500 (Mon, 10 Feb 2025) EndedAt: 2025-02-10 17:51:49 -0500 (Mon, 10 Feb 2025) EllapsedTime: 469.4 seconds RetCode: 0 Status: OK PackageFile: OVESEG_1.23.0.tar.gz PackageFileSize: 796.6 KiB