Package: OVESEG Version: 1.23.0 Command: /Library/Frameworks/R.framework/Resources/bin/R CMD INSTALL OVESEG StartedAt: 2025-02-10 15:13:22 -0500 (Mon, 10 Feb 2025) EndedAt: 2025-02-10 15:13:42 -0500 (Mon, 10 Feb 2025) EllapsedTime: 20.5 seconds RetCode: 0 Status: OK