Package: OVESEG Version: 1.23.0 Command: /home/biocbuild/bbs-3.21-bioc/R/bin/R CMD check --install=check:OVESEG.install-out.txt --library=/home/biocbuild/bbs-3.21-bioc/R/site-library --timings OVESEG_1.23.0.tar.gz StartedAt: 2025-02-10 01:01:24 -0500 (Mon, 10 Feb 2025) EndedAt: 2025-02-10 01:12:07 -0500 (Mon, 10 Feb 2025) EllapsedTime: 642.2 seconds RetCode: 0 Status: OK CheckDir: OVESEG.Rcheck Warnings: 0