Package: OVESEG Version: 1.23.0 Command: chmod a+r OVESEG -R && E:\biocbuild\bbs-3.21-bioc\R\bin\R.exe CMD build --keep-empty-dirs --no-resave-data OVESEG StartedAt: 2025-02-09 20:31:50 -0500 (Sun, 09 Feb 2025) EndedAt: 2025-02-09 20:37:25 -0500 (Sun, 09 Feb 2025) EllapsedTime: 335.0 seconds RetCode: 0 Status: OK PackageFile: OVESEG_1.23.0.tar.gz PackageFileSize: 766 KiB