Package: OmaDB Version: 2.23.0 Command: /Library/Frameworks/R.framework/Resources/bin/R CMD check --install=check:OmaDB.install-out.txt --library=/Library/Frameworks/R.framework/Resources/library --no-vignettes --timings OmaDB_2.23.0.tar.gz StartedAt: 2025-02-03 21:05:04 -0500 (Mon, 03 Feb 2025) EndedAt: 2025-02-03 21:08:42 -0500 (Mon, 03 Feb 2025) EllapsedTime: 217.6 seconds RetCode: 0 Status: OK CheckDir: OmaDB.Rcheck Warnings: 0