Package: OmaDB Version: 2.23.0 Command: /Library/Frameworks/R.framework/Resources/bin/R CMD INSTALL OmaDB StartedAt: 2025-02-03 16:01:28 -0500 (Mon, 03 Feb 2025) EndedAt: 2025-02-03 16:01:35 -0500 (Mon, 03 Feb 2025) EllapsedTime: 6.6 seconds RetCode: 0 Status: OK