Package: OmaDB Version: 2.23.0 Command: /home/biocbuild/R/R/bin/R CMD INSTALL OmaDB StartedAt: 2025-01-29 20:29:28 -0000 (Wed, 29 Jan 2025) EndedAt: 2025-01-29 20:29:50 -0000 (Wed, 29 Jan 2025) EllapsedTime: 22.3 seconds RetCode: 0 Status: OK