Package: OmaDB Version: 2.23.0 Command: /home/biocbuild/bbs-3.21-bioc/R/bin/R CMD build --keep-empty-dirs --no-resave-data OmaDB StartedAt: 2025-02-04 18:26:08 -0500 (Tue, 04 Feb 2025) EndedAt: 2025-02-04 18:26:31 -0500 (Tue, 04 Feb 2025) EllapsedTime: 23.0 seconds RetCode: 0 Status: OK PackageFile: OmaDB_2.23.0.tar.gz PackageFileSize: 98.15 KiB