Package: OmaDB Version: 2.23.0 Command: E:\biocbuild\bbs-3.21-bioc\R\bin\R.exe CMD check --no-multiarch --install=check:OmaDB.install-out.txt --library=E:\biocbuild\bbs-3.21-bioc\R\library --no-vignettes --timings OmaDB_2.23.0.tar.gz StartedAt: 2025-02-10 03:42:29 -0500 (Mon, 10 Feb 2025) EndedAt: 2025-02-10 03:51:12 -0500 (Mon, 10 Feb 2025) EllapsedTime: 523.2 seconds RetCode: 0 Status: OK CheckDir: OmaDB.Rcheck Warnings: 0