Package: OmaDB Version: 2.23.0 Command: E:\biocbuild\bbs-3.21-bioc\R\bin\R.exe CMD INSTALL OmaDB StartedAt: 2025-02-09 16:04:12 -0500 (Sun, 09 Feb 2025) EndedAt: 2025-02-09 16:04:45 -0500 (Sun, 09 Feb 2025) EllapsedTime: 32.4 seconds RetCode: 0 Status: OK